BEGIN:VCALENDAR
VERSION:2.0
PRODID:-//Hermandad Coronación de Espinas de Jerez - ECPv6.5.0//NONSGML v1.0//EN
CALSCALE:GREGORIAN
METHOD:PUBLISH
X-ORIGINAL-URL:https://coronacionjerez.com
X-WR-CALDESC:Eventos para Hermandad Coronación de Espinas de Jerez
REFRESH-INTERVAL;VALUE=DURATION:PT1H
X-Robots-Tag:noindex
X-PUBLISHED-TTL:PT1H
BEGIN:VTIMEZONE
TZID:Europe/Madrid
BEGIN:DAYLIGHT
TZOFFSETFROM:+0100
TZOFFSETTO:+0200
TZNAME:CEST
DTSTART:20230326T010000
END:DAYLIGHT
BEGIN:STANDARD
TZOFFSETFROM:+0200
TZOFFSETTO:+0100
TZNAME:CET
DTSTART:20231029T010000
END:STANDARD
END:VTIMEZONE
BEGIN:VEVENT
DTSTART;TZID=Europe/Madrid:20230506T143000
DTEND;TZID=Europe/Madrid:20230506T180000
DTSTAMP:20260421T151127
CREATED:20230513T195526Z
LAST-MODIFIED:20230513T195526Z
UID:5420-1683383400-1683396000@coronacionjerez.com
SUMMARY:COMIDA DE HERMANDAD FERIA 2023
DESCRIPTION:
URL:https://coronacionjerez.com/eventos/comida-de-hermandad-feria-2023/
ATTACH;FMTTYPE=image/jpeg:https://coronacionjerez.com/wp-content/uploads/2023/05/csm_CARTEL_FERIA_DEL_CABALLO_2023_4b81b2bf5f.jpg
END:VEVENT
BEGIN:VEVENT
DTSTART;TZID=Europe/Madrid:20230518T200000
DTEND;TZID=Europe/Madrid:20230518T210000
DTSTAMP:20260421T151127
CREATED:20230513T202551Z
LAST-MODIFIED:20230513T202551Z
UID:5430-1684440000-1684443600@coronacionjerez.com
SUMMARY:APERTURA DE SECRETARIA Y TESORERIA
DESCRIPTION:
URL:https://coronacionjerez.com/eventos/apertura-de-secretaria-y-tesoreria-48/
ATTACH;FMTTYPE=image/jpeg:https://coronacionjerez.com/wp-content/uploads/2023/01/182484723_3902454839848428_5952868272841126366_n-711x400-1.jpg
END:VEVENT
BEGIN:VEVENT
DTSTART;TZID=Europe/Madrid:20230520T113000
DTEND;TZID=Europe/Madrid:20230520T130000
DTSTAMP:20260421T151127
CREATED:20230513T204236Z
LAST-MODIFIED:20230513T204236Z
UID:5438-1684582200-1684587600@coronacionjerez.com
SUMMARY:ACTIVIDADES GRUPO JOVEN E INFANTIL
DESCRIPTION:
URL:https://coronacionjerez.com/eventos/actividades-grupo-joven-e-infantil-4/
ATTACH;FMTTYPE=image/jpeg:https://coronacionjerez.com/wp-content/uploads/2023/03/f9ccc396-85f1-49d3-94fb-2628ac5bb7c5.jpg
END:VEVENT
BEGIN:VEVENT
DTSTART;TZID=Europe/Madrid:20230520T113000
DTEND;TZID=Europe/Madrid:20230520T133000
DTSTAMP:20260421T151127
CREATED:20230513T203557Z
LAST-MODIFIED:20230513T203557Z
UID:5434-1684582200-1684589400@coronacionjerez.com
SUMMARY:APERTURA DE CAPILLA PARA FIELES Y DEVOTOS
DESCRIPTION:
URL:https://coronacionjerez.com/eventos/apertura-de-capilla-para-fieles-y-devotos-26/
ATTACH;FMTTYPE=image/jpeg:https://coronacionjerez.com/wp-content/uploads/2022/10/apertura-de-capilla.jpg
END:VEVENT
BEGIN:VEVENT
DTSTART;TZID=Europe/Madrid:20230520T200000
DTEND;TZID=Europe/Madrid:20230520T210000
DTSTAMP:20260421T151127
CREATED:20230513T201521Z
LAST-MODIFIED:20230513T201521Z
UID:5425-1684612800-1684616400@coronacionjerez.com
SUMMARY:MISA DE HERMANDAD
DESCRIPTION:
URL:https://coronacionjerez.com/eventos/misa-de-hermandad-56/
ATTACH;FMTTYPE=image/jpeg:https://coronacionjerez.com/wp-content/uploads/2022/09/60948736_2224023571024905_1515783375682535424_n-1.jpg
END:VEVENT
BEGIN:VEVENT
DTSTART;TZID=Europe/Madrid:20230525T200000
DTEND;TZID=Europe/Madrid:20230525T210000
DTSTAMP:20260421T151127
CREATED:20230513T202720Z
LAST-MODIFIED:20230513T203258Z
UID:5432-1685044800-1685048400@coronacionjerez.com
SUMMARY:APERTURA DE SECRETARIA Y TESORERIA
DESCRIPTION:
URL:https://coronacionjerez.com/eventos/apertura-de-secretaria-y-tesoreria-49/
ATTACH;FMTTYPE=image/jpeg:https://coronacionjerez.com/wp-content/uploads/2022/10/secretaria.jpg
END:VEVENT
BEGIN:VEVENT
DTSTART;VALUE=DATE:20230527
DTEND;VALUE=DATE:20230528
DTSTAMP:20260421T151127
CREATED:20230513T201235Z
LAST-MODIFIED:20230513T201235Z
UID:5423-1685145600-1685231999@coronacionjerez.com
SUMMARY:OFRENDA FLORAL. A MARÍA STMA DE LA PAZ EN SU MAYOR AFLICCIÓN
DESCRIPTION:
URL:https://coronacionjerez.com/eventos/ofrenda-floral-a-maria-stma-de-la-paz-en-su-mayor-afliccion-2/
ATTACH;FMTTYPE=image/jpeg:https://coronacionjerez.com/wp-content/uploads/2022/12/triptcio-2.jpg
END:VEVENT
BEGIN:VEVENT
DTSTART;TZID=Europe/Madrid:20230527T113000
DTEND;TZID=Europe/Madrid:20230527T130000
DTSTAMP:20260421T151127
CREATED:20230513T205024Z
LAST-MODIFIED:20230513T205024Z
UID:5440-1685187000-1685192400@coronacionjerez.com
SUMMARY:ACTIVIDADES GRUPO JOVEN E INFANTIL
DESCRIPTION:
URL:https://coronacionjerez.com/eventos/actividades-grupo-joven-e-infantil-5/
ATTACH;FMTTYPE=image/jpeg:https://coronacionjerez.com/wp-content/uploads/2023/02/pppp.jpg
END:VEVENT
BEGIN:VEVENT
DTSTART;TZID=Europe/Madrid:20230527T113000
DTEND;TZID=Europe/Madrid:20230527T133000
DTSTAMP:20260421T151127
CREATED:20230513T203710Z
LAST-MODIFIED:20230513T204100Z
UID:5436-1685187000-1685194200@coronacionjerez.com
SUMMARY:APERTURA DE CAPILLA PARA FIELES Y DEVOTOS
DESCRIPTION:
URL:https://coronacionjerez.com/eventos/apertura-de-capilla-para-fieles-y-devotos-27/
ATTACH;FMTTYPE=image/jpeg:https://coronacionjerez.com/wp-content/uploads/2022/10/apertura-de-capilla.jpg
END:VEVENT
BEGIN:VEVENT
DTSTART;TZID=Europe/Madrid:20230527T200000
DTEND;TZID=Europe/Madrid:20230527T210000
DTSTAMP:20260421T151127
CREATED:20230513T201949Z
LAST-MODIFIED:20230513T201949Z
UID:5427-1685217600-1685221200@coronacionjerez.com
SUMMARY:MISA DE HERMANDAD
DESCRIPTION:
URL:https://coronacionjerez.com/eventos/misa-de-hermandad-57/
ATTACH;FMTTYPE=image/jpeg:https://coronacionjerez.com/wp-content/uploads/2022/09/60948736_2224023571024905_1515783375682535424_n-1.jpg
END:VEVENT
END:VCALENDAR