BEGIN:VCALENDAR
VERSION:2.0
PRODID:-//Hermandad Coronación de Espinas de Jerez - ECPv6.5.0//NONSGML v1.0//EN
CALSCALE:GREGORIAN
METHOD:PUBLISH
X-WR-CALNAME:Hermandad Coronación de Espinas de Jerez
X-ORIGINAL-URL:https://coronacionjerez.com
X-WR-CALDESC:Eventos para Hermandad Coronación de Espinas de Jerez
REFRESH-INTERVAL;VALUE=DURATION:PT1H
X-Robots-Tag:noindex
X-PUBLISHED-TTL:PT1H
BEGIN:VTIMEZONE
TZID:Europe/Madrid
BEGIN:DAYLIGHT
TZOFFSETFROM:+0100
TZOFFSETTO:+0200
TZNAME:CEST
DTSTART:20230326T010000
END:DAYLIGHT
BEGIN:STANDARD
TZOFFSETFROM:+0200
TZOFFSETTO:+0100
TZNAME:CET
DTSTART:20231029T010000
END:STANDARD
END:VTIMEZONE
BEGIN:VEVENT
DTSTART;TZID=Europe/Madrid:20230202T200000
DTEND;TZID=Europe/Madrid:20230202T210000
DTSTAMP:20260421T120534
CREATED:20230206T192104Z
LAST-MODIFIED:20230206T192125Z
UID:5185-1675368000-1675371600@coronacionjerez.com
SUMMARY:APERTURA DE SECRETARÍA Y TESORERÍA
DESCRIPTION:
URL:https://coronacionjerez.com/eventos/apertura-de-secretaria-y-tesoreria-41/
ATTACH;FMTTYPE=image/jpeg:https://coronacionjerez.com/wp-content/uploads/2023/01/182484723_3902454839848428_5952868272841126366_n-711x400-1.jpg
END:VEVENT
BEGIN:VEVENT
DTSTART;TZID=Europe/Madrid:20230204T110000
DTEND;TZID=Europe/Madrid:20230204T130000
DTSTAMP:20260421T120534
CREATED:20230206T222704Z
LAST-MODIFIED:20230206T222704Z
UID:5205-1675508400-1675515600@coronacionjerez.com
SUMMARY:ACTIVIDADES GRUPO JOVEN E INFANTIL
DESCRIPTION:
URL:https://coronacionjerez.com/eventos/actividades-grupo-joven-e-infantil/
ATTACH;FMTTYPE=image/jpeg:https://coronacionjerez.com/wp-content/uploads/2022/10/4.jpg
END:VEVENT
BEGIN:VEVENT
DTSTART;TZID=Europe/Madrid:20230204T113000
DTEND;TZID=Europe/Madrid:20230204T133000
DTSTAMP:20260421T120534
CREATED:20230206T193631Z
LAST-MODIFIED:20230206T193631Z
UID:5194-1675510200-1675517400@coronacionjerez.com
SUMMARY:APERTURA DE CAPILLA PARA FIELES Y DEVOTOS
DESCRIPTION:
URL:https://coronacionjerez.com/eventos/apertura-de-capilla-para-fieles-y-devotos-22/
ATTACH;FMTTYPE=image/jpeg:https://coronacionjerez.com/wp-content/uploads/2022/10/apertura-de-capilla.jpg
END:VEVENT
BEGIN:VEVENT
DTSTART;TZID=Europe/Madrid:20230204T200000
DTEND;TZID=Europe/Madrid:20230204T210000
DTSTAMP:20260421T120534
CREATED:20230206T190125Z
LAST-MODIFIED:20230206T190125Z
UID:5174-1675540800-1675544400@coronacionjerez.com
SUMMARY:MISA DE HERMANDAD
DESCRIPTION:
URL:https://coronacionjerez.com/eventos/misa-de-hermandad-53/
ATTACH;FMTTYPE=image/jpeg:https://coronacionjerez.com/wp-content/uploads/2022/10/121059463_3335287583231826_7238703466912659734_o-711x400-1.jpg
END:VEVENT
BEGIN:VEVENT
DTSTART;TZID=Europe/Madrid:20230209T200000
DTEND;TZID=Europe/Madrid:20230209T210000
DTSTAMP:20260421T120534
CREATED:20230206T192348Z
LAST-MODIFIED:20230206T192348Z
UID:5188-1675972800-1675976400@coronacionjerez.com
SUMMARY:APERTURA DE SECRETARÍA Y TESORERÍA
DESCRIPTION:
URL:https://coronacionjerez.com/eventos/apertura-de-secretaria-y-tesoreria-42/
ATTACH;FMTTYPE=image/jpeg:https://coronacionjerez.com/wp-content/uploads/2022/10/secretaria.jpg
END:VEVENT
BEGIN:VEVENT
DTSTART;TZID=Europe/Madrid:20230211T110000
DTEND;TZID=Europe/Madrid:20230211T130000
DTSTAMP:20260421T120534
CREATED:20230206T222959Z
LAST-MODIFIED:20230206T222959Z
UID:5207-1676113200-1676120400@coronacionjerez.com
SUMMARY:ACTIVIDADES GRUPO JOVEN E INFANTIL
DESCRIPTION:
URL:https://coronacionjerez.com/eventos/actividades-grupo-joven-e-infantil-2/
ATTACH;FMTTYPE=image/jpeg:https://coronacionjerez.com/wp-content/uploads/2022/10/4.jpg
END:VEVENT
BEGIN:VEVENT
DTSTART;TZID=Europe/Madrid:20230211T113000
DTEND;TZID=Europe/Madrid:20230211T133000
DTSTAMP:20260421T120534
CREATED:20230206T193925Z
LAST-MODIFIED:20230206T194333Z
UID:5196-1676115000-1676122200@coronacionjerez.com
SUMMARY:APERTURA DE CAPILLA PARA FIELES Y DEVOTOS
DESCRIPTION:
URL:https://coronacionjerez.com/eventos/apertura-de-capilla-para-fieles-y-devotos-23/
ATTACH;FMTTYPE=image/jpeg:https://coronacionjerez.com/wp-content/uploads/2022/10/apertura-de-capilla.jpg
END:VEVENT
BEGIN:VEVENT
DTSTART;TZID=Europe/Madrid:20230211T200000
DTEND;TZID=Europe/Madrid:20230211T220000
DTSTAMP:20260421T120534
CREATED:20230206T190230Z
LAST-MODIFIED:20230206T190315Z
UID:5176-1676145600-1676152800@coronacionjerez.com
SUMMARY:MISA DE HERMANDAD
DESCRIPTION:
URL:https://coronacionjerez.com/eventos/misa-de-hermandad-54/
ATTACH;FMTTYPE=image/jpeg:https://coronacionjerez.com/wp-content/uploads/2022/12/20221203_131835_CROP-1-scaled.jpg
END:VEVENT
BEGIN:VEVENT
DTSTART;TZID=Europe/Madrid:20230216T200000
DTEND;TZID=Europe/Madrid:20230216T210000
DTSTAMP:20260421T120534
CREATED:20230206T192635Z
LAST-MODIFIED:20230206T192635Z
UID:5190-1676577600-1676581200@coronacionjerez.com
SUMMARY:APERTURA DE SECRETARÍA Y TESORERÍA
DESCRIPTION:
URL:https://coronacionjerez.com/eventos/apertura-de-secretaria-y-tesoreria-43/
ATTACH;FMTTYPE=image/jpeg:https://coronacionjerez.com/wp-content/uploads/2022/10/secretaria.jpg
END:VEVENT
BEGIN:VEVENT
DTSTART;TZID=Europe/Madrid:20230218T113000
DTEND;TZID=Europe/Madrid:20230218T133000
DTSTAMP:20260421T120534
CREATED:20230206T194229Z
LAST-MODIFIED:20230206T194229Z
UID:5198-1676719800-1676727000@coronacionjerez.com
SUMMARY:APERTURA DE CAPILLA PARA FIELES Y DEVOTOS
DESCRIPTION:
URL:https://coronacionjerez.com/eventos/apertura-de-capilla-para-fieles-y-devotos-24/
ATTACH;FMTTYPE=image/jpeg:https://coronacionjerez.com/wp-content/uploads/2022/10/apertura-de-capilla.jpg
END:VEVENT
BEGIN:VEVENT
DTSTART;TZID=Europe/Madrid:20230218T200000
DTEND;TZID=Europe/Madrid:20230218T210000
DTSTAMP:20260421T120534
CREATED:20230206T191049Z
LAST-MODIFIED:20230206T191407Z
UID:5178-1676750400-1676754000@coronacionjerez.com
SUMMARY:MISA DE HERMANDAD
DESCRIPTION:
URL:https://coronacionjerez.com/eventos/misa-de-hermandad-55/
ATTACH;FMTTYPE=image/jpeg:https://coronacionjerez.com/wp-content/uploads/2022/12/20221203_131835_CROP-1-scaled.jpg
END:VEVENT
BEGIN:VEVENT
DTSTART;TZID=Europe/Madrid:20230221T203000
DTEND;TZID=Europe/Madrid:20230221T220000
DTSTAMP:20260421T120534
CREATED:20230206T183844Z
LAST-MODIFIED:20230206T183844Z
UID:5158-1677011400-1677016800@coronacionjerez.com
SUMMARY:SOLEMNE QUINARIO A NUESTROS SAGRADOS TITULARES
DESCRIPTION:Solemnes cultos cuaresmales. Comenzando los días 21\,22\,23\,24 y 25 de Febrero del 2023 con el Solemne Quinario. Iniciándose con el rezo del Santo Rosario a las 20.30 horas y a continuación Ejercicio de Quinario y Sagrada Eucaristía.\n\nLa predicación de dicho Quinario estará a cargo de Rvdo. Padre  D. Santiago Gassin Ordoñez\, capellán de nuestra Sede Canónica.
URL:https://coronacionjerez.com/eventos/solemne-quinario-a-nuestros-sagrados-titulares/
ATTACH;FMTTYPE=image/jpeg:https://coronacionjerez.com/wp-content/uploads/2022/02/IMG-20210317-WA0026.jpg
END:VEVENT
BEGIN:VEVENT
DTSTART;TZID=Europe/Madrid:20230222T203000
DTEND;TZID=Europe/Madrid:20230222T220000
DTSTAMP:20260421T120534
CREATED:20230206T184940Z
LAST-MODIFIED:20230206T191605Z
UID:5165-1677097800-1677103200@coronacionjerez.com
SUMMARY:SOLEMNE QUINARIO A NUESTROS SAGRADOS TITULARES. MIERCOLES DE CENIZA
DESCRIPTION:Solemnes Cultos Cuaresmales. Comenzando los días 21\,22\,23\,24 y 25 de Febrero del 2023 con el Solemne Quinario. Iniciándose con el rezo del Santo Rosario a las 20.30 horas y a continuación Ejercicio de Quinario y Sagrada Eucaristía.\nLa predicación de dicho Quinario estará a cargo de Rvdo. Padre D. Santiago Gassin Ordoñez\, capellán de nuestra Sede Canónica.
URL:https://coronacionjerez.com/eventos/solemne-quinario-a-nuestros-sagrados-titulares-miercoles-de-ceniza-3/
ATTACH;FMTTYPE=image/jpeg:https://coronacionjerez.com/wp-content/uploads/2023/02/quinario-1-711x400-1.jpg
END:VEVENT
BEGIN:VEVENT
DTSTART;TZID=Europe/Madrid:20230223T203000
DTEND;TZID=Europe/Madrid:20230223T220000
DTSTAMP:20260421T120534
CREATED:20230206T185055Z
LAST-MODIFIED:20230206T191653Z
UID:5167-1677184200-1677189600@coronacionjerez.com
SUMMARY:SOLEMNE QUINARIO A NUESTROS SAGRADOS TITULARES.
DESCRIPTION:Solemnes Cultos Cuaresmales. Comenzando los días 21\,22\,23\,24 y 25 de Febrero del 2023 con el Solemne Quinario. Iniciándose con el rezo del Santo Rosario a las 20.30 horas y a continuación Ejercicio de Quinario y Sagrada Eucaristía.\nLa predicación de dicho Quinario estará a cargo de Rvdo. Padre D. Santiago Gassin Ordoñez\, capellán de nuestra Sede Canónica.
URL:https://coronacionjerez.com/eventos/solemne-quinario-a-nuestros-sagrados-titulares-miercoles-de-ceniza-4/
ATTACH;FMTTYPE=image/jpeg:https://coronacionjerez.com/wp-content/uploads/2023/02/quinario-1-711x400-1.jpg
END:VEVENT
BEGIN:VEVENT
DTSTART;TZID=Europe/Madrid:20230224T203000
DTEND;TZID=Europe/Madrid:20230224T220000
DTSTAMP:20260421T120534
CREATED:20230206T185220Z
LAST-MODIFIED:20230206T191724Z
UID:5169-1677270600-1677276000@coronacionjerez.com
SUMMARY:SOLEMNE QUINARIO A NUESTROS SAGRADOS TITULARES.
DESCRIPTION:Solemnes Cultos Cuaresmales. Comenzando los días 21\,22\,23\,24 y 25 de Febrero del 2023 con el Solemne Quinario. Iniciándose con el rezo del Santo Rosario a las 20.30 horas y a continuación Ejercicio de Quinario y Sagrada Eucaristía.\nLa predicación de dicho Quinario estará a cargo de Rvdo. Padre D. Santiago Gassin Ordoñez\, capellán de nuestra Sede Canónica.
URL:https://coronacionjerez.com/eventos/solemne-quinario-a-nuestros-sagrados-titulares-miercoles-de-ceniza-5/
ATTACH;FMTTYPE=image/jpeg:https://coronacionjerez.com/wp-content/uploads/2023/02/quinario-1-711x400-1.jpg
END:VEVENT
BEGIN:VEVENT
DTSTART;TZID=Europe/Madrid:20230225T110000
DTEND;TZID=Europe/Madrid:20230225T130000
DTSTAMP:20260421T120534
CREATED:20230206T223339Z
LAST-MODIFIED:20230206T223459Z
UID:5209-1677322800-1677330000@coronacionjerez.com
SUMMARY:ACTIVIDADES GRUPO JOVEN E INFANTIL
DESCRIPTION:
URL:https://coronacionjerez.com/eventos/actividades-grupo-joven-e-infantil-3/
ATTACH;FMTTYPE=image/jpeg:https://coronacionjerez.com/wp-content/uploads/2022/09/yyy.jpg
END:VEVENT
BEGIN:VEVENT
DTSTART;TZID=Europe/Madrid:20230225T113000
DTEND;TZID=Europe/Madrid:20230225T133000
DTSTAMP:20260421T120534
CREATED:20230206T194503Z
LAST-MODIFIED:20230206T194503Z
UID:5200-1677324600-1677331800@coronacionjerez.com
SUMMARY:APERTURA DE CAPILLA PARA FIELES Y DEVOTOS
DESCRIPTION:
URL:https://coronacionjerez.com/eventos/apertura-de-capilla-para-fieles-y-devotos-25/
ATTACH;FMTTYPE=image/jpeg:https://coronacionjerez.com/wp-content/uploads/2022/10/apertura-de-capilla.jpg
END:VEVENT
BEGIN:VEVENT
DTSTART;TZID=Europe/Madrid:20230225T203000
DTEND;TZID=Europe/Madrid:20230225T220000
DTSTAMP:20260421T120534
CREATED:20230206T185408Z
LAST-MODIFIED:20230206T191754Z
UID:5171-1677357000-1677362400@coronacionjerez.com
SUMMARY:SOLEMNE QUINARIO A NUESTROS SAGRADOS TITULARES.
DESCRIPTION:Solemnes Cultos Cuaresmales. Comenzando los días 21\,22\,23\,24 y 25 de Febrero del 2023 con el Solemne Quinario. Iniciándose con el rezo del Santo Rosario a las 20.30 horas y a continuación Ejercicio de Quinario y Sagrada Eucaristía.\nLa predicación de dicho Quinario estará a cargo de Rvdo. Padre D. Santiago Gassin Ordoñez\, capellán de nuestra Sede Canónica.
URL:https://coronacionjerez.com/eventos/solemne-quinario-a-nuestros-sagrados-titulares-miercoles-de-ceniza-6/
ATTACH;FMTTYPE=image/jpeg:https://coronacionjerez.com/wp-content/uploads/2023/02/quinario-1-711x400-1.jpg
END:VEVENT
BEGIN:VEVENT
DTSTART;TZID=Europe/Madrid:20230226T103000
DTEND;TZID=Europe/Madrid:20230226T130000
DTSTAMP:20260421T120534
CREATED:20230206T182803Z
LAST-MODIFIED:20230206T185657Z
UID:5156-1677407400-1677416400@coronacionjerez.com
SUMMARY:FUNCION PRINCIPAL DE INSTITUTO. COMIDA DE HERMANDAD
DESCRIPTION:
URL:https://coronacionjerez.com/eventos/funcion-principal-de-instituto-comida-de-hermandad/
ATTACH;FMTTYPE=image/jpeg:https://coronacionjerez.com/wp-content/uploads/2022/04/quinario-1.jpg
END:VEVENT
END:VCALENDAR