BEGIN:VCALENDAR
VERSION:2.0
PRODID:-//Hermandad Coronación de Espinas de Jerez - ECPv6.5.0//NONSGML v1.0//EN
CALSCALE:GREGORIAN
METHOD:PUBLISH
X-WR-CALNAME:Hermandad Coronación de Espinas de Jerez
X-ORIGINAL-URL:https://coronacionjerez.com
X-WR-CALDESC:Eventos para Hermandad Coronación de Espinas de Jerez
REFRESH-INTERVAL;VALUE=DURATION:PT1H
X-Robots-Tag:noindex
X-PUBLISHED-TTL:PT1H
BEGIN:VTIMEZONE
TZID:Europe/Madrid
BEGIN:DAYLIGHT
TZOFFSETFROM:+0100
TZOFFSETTO:+0200
TZNAME:CEST
DTSTART:20230326T010000
END:DAYLIGHT
BEGIN:STANDARD
TZOFFSETFROM:+0200
TZOFFSETTO:+0100
TZNAME:CET
DTSTART:20231029T010000
END:STANDARD
END:VTIMEZONE
BEGIN:VEVENT
DTSTART;TZID=Europe/Madrid:20230506T143000
DTEND;TZID=Europe/Madrid:20230506T180000
DTSTAMP:20260421T162846
CREATED:20230513T195526Z
LAST-MODIFIED:20230513T195526Z
UID:5420-1683383400-1683396000@coronacionjerez.com
SUMMARY:COMIDA DE HERMANDAD FERIA 2023
DESCRIPTION:
URL:https://coronacionjerez.com/eventos/comida-de-hermandad-feria-2023/
ATTACH;FMTTYPE=image/jpeg:https://coronacionjerez.com/wp-content/uploads/2023/05/csm_CARTEL_FERIA_DEL_CABALLO_2023_4b81b2bf5f.jpg
END:VEVENT
END:VCALENDAR