BEGIN:VCALENDAR
VERSION:2.0
PRODID:-//Hermandad Coronación de Espinas de Jerez - ECPv6.5.0//NONSGML v1.0//EN
CALSCALE:GREGORIAN
METHOD:PUBLISH
X-WR-CALNAME:Hermandad Coronación de Espinas de Jerez
X-ORIGINAL-URL:https://coronacionjerez.com
X-WR-CALDESC:Eventos para Hermandad Coronación de Espinas de Jerez
REFRESH-INTERVAL;VALUE=DURATION:PT1H
X-Robots-Tag:noindex
X-PUBLISHED-TTL:PT1H
BEGIN:VTIMEZONE
TZID:Europe/Madrid
BEGIN:DAYLIGHT
TZOFFSETFROM:+0100
TZOFFSETTO:+0200
TZNAME:CEST
DTSTART:20230326T010000
END:DAYLIGHT
BEGIN:STANDARD
TZOFFSETFROM:+0200
TZOFFSETTO:+0100
TZNAME:CET
DTSTART:20231029T010000
END:STANDARD
END:VTIMEZONE
BEGIN:VEVENT
DTSTART;TZID=Europe/Madrid:20230325T113000
DTEND;TZID=Europe/Madrid:20230325T133000
DTSTAMP:20260421T133423
CREATED:20230324T165325Z
LAST-MODIFIED:20230324T165325Z
UID:5354-1679743800-1679751000@coronacionjerez.com
SUMMARY:Reparto de papeletas de sitio
DESCRIPTION:
URL:https://coronacionjerez.com/eventos/reparto-de-papeletas-de-sitio-10/
ATTACH;FMTTYPE=image/jpeg:https://coronacionjerez.com/wp-content/uploads/2023/03/0cff5325-0485-4a84-85bc-44e136ba9d6e.jpg
END:VEVENT
END:VCALENDAR