BEGIN:VCALENDAR
VERSION:2.0
PRODID:-//Hermandad Coronación de Espinas de Jerez - ECPv6.5.0//NONSGML v1.0//EN
CALSCALE:GREGORIAN
METHOD:PUBLISH
X-ORIGINAL-URL:https://coronacionjerez.com
X-WR-CALDESC:Eventos para Hermandad Coronación de Espinas de Jerez
REFRESH-INTERVAL;VALUE=DURATION:PT1H
X-Robots-Tag:noindex
X-PUBLISHED-TTL:PT1H
BEGIN:VTIMEZONE
TZID:Europe/Madrid
BEGIN:DAYLIGHT
TZOFFSETFROM:+0100
TZOFFSETTO:+0200
TZNAME:CEST
DTSTART:20230326T010000
END:DAYLIGHT
BEGIN:STANDARD
TZOFFSETFROM:+0200
TZOFFSETTO:+0100
TZNAME:CET
DTSTART:20231029T010000
END:STANDARD
END:VTIMEZONE
BEGIN:VEVENT
DTSTART;TZID=Europe/Madrid:20230225T110000
DTEND;TZID=Europe/Madrid:20230225T130000
DTSTAMP:20260421T120351
CREATED:20230206T223339Z
LAST-MODIFIED:20230206T223459Z
UID:5209-1677322800-1677330000@coronacionjerez.com
SUMMARY:ACTIVIDADES GRUPO JOVEN E INFANTIL
DESCRIPTION:
URL:https://coronacionjerez.com/eventos/actividades-grupo-joven-e-infantil-3/
ATTACH;FMTTYPE=image/jpeg:https://coronacionjerez.com/wp-content/uploads/2022/09/yyy.jpg
END:VEVENT
BEGIN:VEVENT
DTSTART;TZID=Europe/Madrid:20230225T113000
DTEND;TZID=Europe/Madrid:20230225T133000
DTSTAMP:20260421T120351
CREATED:20230206T194503Z
LAST-MODIFIED:20230206T194503Z
UID:5200-1677324600-1677331800@coronacionjerez.com
SUMMARY:APERTURA DE CAPILLA PARA FIELES Y DEVOTOS
DESCRIPTION:
URL:https://coronacionjerez.com/eventos/apertura-de-capilla-para-fieles-y-devotos-25/
ATTACH;FMTTYPE=image/jpeg:https://coronacionjerez.com/wp-content/uploads/2022/10/apertura-de-capilla.jpg
END:VEVENT
BEGIN:VEVENT
DTSTART;TZID=Europe/Madrid:20230225T203000
DTEND;TZID=Europe/Madrid:20230225T220000
DTSTAMP:20260421T120351
CREATED:20230206T185408Z
LAST-MODIFIED:20230206T191754Z
UID:5171-1677357000-1677362400@coronacionjerez.com
SUMMARY:SOLEMNE QUINARIO A NUESTROS SAGRADOS TITULARES.
DESCRIPTION:Solemnes Cultos Cuaresmales. Comenzando los días 21\,22\,23\,24 y 25 de Febrero del 2023 con el Solemne Quinario. Iniciándose con el rezo del Santo Rosario a las 20.30 horas y a continuación Ejercicio de Quinario y Sagrada Eucaristía.\nLa predicación de dicho Quinario estará a cargo de Rvdo. Padre D. Santiago Gassin Ordoñez\, capellán de nuestra Sede Canónica.
URL:https://coronacionjerez.com/eventos/solemne-quinario-a-nuestros-sagrados-titulares-miercoles-de-ceniza-6/
ATTACH;FMTTYPE=image/jpeg:https://coronacionjerez.com/wp-content/uploads/2023/02/quinario-1-711x400-1.jpg
END:VEVENT
END:VCALENDAR