BEGIN:VCALENDAR
VERSION:2.0
PRODID:-//Hermandad Coronación de Espinas de Jerez - ECPv6.5.0//NONSGML v1.0//EN
CALSCALE:GREGORIAN
METHOD:PUBLISH
X-WR-CALNAME:Hermandad Coronación de Espinas de Jerez
X-ORIGINAL-URL:https://coronacionjerez.com
X-WR-CALDESC:Eventos para Hermandad Coronación de Espinas de Jerez
REFRESH-INTERVAL;VALUE=DURATION:PT1H
X-Robots-Tag:noindex
X-PUBLISHED-TTL:PT1H
BEGIN:VTIMEZONE
TZID:Europe/Madrid
BEGIN:DAYLIGHT
TZOFFSETFROM:+0100
TZOFFSETTO:+0200
TZNAME:CEST
DTSTART:20230326T010000
END:DAYLIGHT
BEGIN:STANDARD
TZOFFSETFROM:+0200
TZOFFSETTO:+0100
TZNAME:CET
DTSTART:20231029T010000
END:STANDARD
END:VTIMEZONE
BEGIN:VEVENT
DTSTART;TZID=Europe/Madrid:20230218T113000
DTEND;TZID=Europe/Madrid:20230218T133000
DTSTAMP:20260423T124323
CREATED:20230206T194229Z
LAST-MODIFIED:20230206T194229Z
UID:5198-1676719800-1676727000@coronacionjerez.com
SUMMARY:APERTURA DE CAPILLA PARA FIELES Y DEVOTOS
DESCRIPTION:
URL:https://coronacionjerez.com/eventos/apertura-de-capilla-para-fieles-y-devotos-24/
ATTACH;FMTTYPE=image/jpeg:https://coronacionjerez.com/wp-content/uploads/2022/10/apertura-de-capilla.jpg
END:VEVENT
BEGIN:VEVENT
DTSTART;TZID=Europe/Madrid:20230218T200000
DTEND;TZID=Europe/Madrid:20230218T210000
DTSTAMP:20260423T124323
CREATED:20230206T191049Z
LAST-MODIFIED:20230206T191407Z
UID:5178-1676750400-1676754000@coronacionjerez.com
SUMMARY:MISA DE HERMANDAD
DESCRIPTION:
URL:https://coronacionjerez.com/eventos/misa-de-hermandad-55/
ATTACH;FMTTYPE=image/jpeg:https://coronacionjerez.com/wp-content/uploads/2022/12/20221203_131835_CROP-1-scaled.jpg
END:VEVENT
END:VCALENDAR