BEGIN:VCALENDAR
VERSION:2.0
PRODID:-//Hermandad Coronación de Espinas de Jerez - ECPv6.5.0//NONSGML v1.0//EN
CALSCALE:GREGORIAN
METHOD:PUBLISH
X-WR-CALNAME:Hermandad Coronación de Espinas de Jerez
X-ORIGINAL-URL:https://coronacionjerez.com
X-WR-CALDESC:Eventos para Hermandad Coronación de Espinas de Jerez
REFRESH-INTERVAL;VALUE=DURATION:PT1H
X-Robots-Tag:noindex
X-PUBLISHED-TTL:PT1H
BEGIN:VTIMEZONE
TZID:Europe/Madrid
BEGIN:DAYLIGHT
TZOFFSETFROM:+0100
TZOFFSETTO:+0200
TZNAME:CEST
DTSTART:20230326T010000
END:DAYLIGHT
BEGIN:STANDARD
TZOFFSETFROM:+0200
TZOFFSETTO:+0100
TZNAME:CET
DTSTART:20231029T010000
END:STANDARD
END:VTIMEZONE
BEGIN:VEVENT
DTSTART;TZID=Europe/Madrid:20230114T110000
DTEND;TZID=Europe/Madrid:20230114T130000
DTSTAMP:20260421T120443
CREATED:20230106T181115Z
LAST-MODIFIED:20230106T181115Z
UID:4975-1673694000-1673701200@coronacionjerez.com
SUMMARY:Grupo Joven e Infantil de la Hermandad
DESCRIPTION:
URL:https://coronacionjerez.com/eventos/grupo-joven-e-infantil-de-la-hermandad/
ATTACH;FMTTYPE=image/jpeg:https://coronacionjerez.com/wp-content/uploads/2022/11/fac322f6-4386-4a91-b90e-af61fcc21c1d-1.jpg
END:VEVENT
BEGIN:VEVENT
DTSTART;TZID=Europe/Madrid:20230114T113000
DTEND;TZID=Europe/Madrid:20230114T133000
DTSTAMP:20260421T120443
CREATED:20230106T180655Z
LAST-MODIFIED:20230106T180753Z
UID:4973-1673695800-1673703000@coronacionjerez.com
SUMMARY:Apertura de capilla para fieles y devotos
DESCRIPTION:
URL:https://coronacionjerez.com/eventos/apertura-de-capilla-para-fieles-y-devotos-21/
ATTACH;FMTTYPE=image/jpeg:https://coronacionjerez.com/wp-content/uploads/2022/10/apertura-de-capilla.jpg
END:VEVENT
BEGIN:VEVENT
DTSTART;TZID=Europe/Madrid:20230114T200000
DTEND;TZID=Europe/Madrid:20230114T210000
DTSTAMP:20260421T120443
CREATED:20230106T182101Z
LAST-MODIFIED:20230106T184754Z
UID:4982-1673726400-1673730000@coronacionjerez.com
SUMMARY:Misa de hermandad
DESCRIPTION:
URL:https://coronacionjerez.com/eventos/misa-de-hermandad-50/
ATTACH;FMTTYPE=image/jpeg:https://coronacionjerez.com/wp-content/uploads/2022/09/60948736_2224023571024905_1515783375682535424_n-1.jpg
END:VEVENT
BEGIN:VEVENT
DTSTART;TZID=Europe/Madrid:20230114T210000
DTEND;TZID=Europe/Madrid:20230114T220000
DTSTAMP:20260421T120443
CREATED:20230106T190050Z
LAST-MODIFIED:20230106T191452Z
UID:4988-1673730000-1673733600@coronacionjerez.com
SUMMARY:1ª Conferencia del XLIV Tríptico Mariológico
DESCRIPTION:El día 14 de enero\, se abrirá este ciclo de conferencias con la primera ponencia a cargo de D. Jaime Betanzos Sánchez\, hermano de la Hermandad de las Viñas de Jerez de la Frontera bajo el título: «La paz en el conflicto: Una actitud frente a los tiempos recios».\n\n 
URL:https://coronacionjerez.com/eventos/1a-conferencia-del-xliv-triptico-mariologico/
ATTACH;FMTTYPE=image/jpeg:https://coronacionjerez.com/wp-content/uploads/2022/09/306589244_5385324174894813_8912336955403354681_n.jpg
END:VEVENT
END:VCALENDAR